BEGIN:VCALENDAR
VERSION:2.0
PRODID:-//Melbourn Parish Council - ECPv6.15.20//NONSGML v1.0//EN
CALSCALE:GREGORIAN
METHOD:PUBLISH
X-ORIGINAL-URL:https://melbournparishcouncil.gov.uk
X-WR-CALDESC:Events for Melbourn Parish Council
REFRESH-INTERVAL;VALUE=DURATION:PT1H
X-Robots-Tag:noindex
X-PUBLISHED-TTL:PT1H
BEGIN:VTIMEZONE
TZID:Europe/London
BEGIN:DAYLIGHT
TZOFFSETFROM:+0000
TZOFFSETTO:+0100
TZNAME:BST
DTSTART:20220327T010000
END:DAYLIGHT
BEGIN:STANDARD
TZOFFSETFROM:+0100
TZOFFSETTO:+0000
TZNAME:GMT
DTSTART:20221030T010000
END:STANDARD
BEGIN:DAYLIGHT
TZOFFSETFROM:+0000
TZOFFSETTO:+0100
TZNAME:BST
DTSTART:20230326T010000
END:DAYLIGHT
BEGIN:STANDARD
TZOFFSETFROM:+0100
TZOFFSETTO:+0000
TZNAME:GMT
DTSTART:20231029T010000
END:STANDARD
BEGIN:DAYLIGHT
TZOFFSETFROM:+0000
TZOFFSETTO:+0100
TZNAME:BST
DTSTART:20240331T010000
END:DAYLIGHT
BEGIN:STANDARD
TZOFFSETFROM:+0100
TZOFFSETTO:+0000
TZNAME:GMT
DTSTART:20241027T010000
END:STANDARD
END:VTIMEZONE
BEGIN:VEVENT
DTSTART;TZID=Europe/London:20230411T193000
DTEND;TZID=Europe/London:20230411T193000
DTSTAMP:20260421T181411
CREATED:20220629T233404Z
LAST-MODIFIED:20220630T204234Z
UID:11593-1681241400-1681241400@melbournparishcouncil.gov.uk
SUMMARY:Planning
DESCRIPTION:
URL:https://melbournparishcouncil.gov.uk/event/planning-11/
CATEGORIES:Planning Committee
END:VEVENT
BEGIN:VEVENT
DTSTART;TZID=Europe/London:20230420T093000
DTEND;TZID=Europe/London:20230420T093000
DTSTAMP:20260421T181411
CREATED:20220629T233454Z
LAST-MODIFIED:20220630T201830Z
UID:11595-1681983000-1681983000@melbournparishcouncil.gov.uk
SUMMARY:Maintenance
DESCRIPTION:
URL:https://melbournparishcouncil.gov.uk/event/maintenance-11/
CATEGORIES:Maintenance Committee
END:VEVENT
BEGIN:VEVENT
DTSTART;TZID=Europe/London:20230424T193000
DTEND;TZID=Europe/London:20230424T193000
DTSTAMP:20260421T181411
CREATED:20220629T233536Z
LAST-MODIFIED:20220630T201808Z
UID:11597-1682364600-1682364600@melbournparishcouncil.gov.uk
SUMMARY:Full Council
DESCRIPTION:
URL:https://melbournparishcouncil.gov.uk/event/full-council-9/
CATEGORIES:Full Council
END:VEVENT
END:VCALENDAR